BEGIN:VCALENDAR
VERSION:2.0
PRODID:-//Telerik Inc.//NONSGML RadScheduler//EN
METHOD:PUBLISH
BEGIN:VEVENT
DTSTART:20180524T220000Z
DTEND:20180525T000000Z
UID:20210423T211540Z-
DTSTAMP:20210423T211540Z
LOCATION:723 N. Fourth Street Wilmington   28401
SUMMARY:Bottega Fundraiser
DESCRIPTION:
END:VEVENT
END:VCALENDAR
